BEGIN:VCALENDAR

VERSION:2.0

PRODID:-//hacksw/handcal//NONSGML v1.0//EN

BEGIN:VEVENT

UID:8453c6de57c7d2164a8160565eafb61a

DTSTAMP:20260425T143201Z

DTSTART:20260501T130000

DTEND:20260501T133000

SUMMARY:L39860390 - 13 Rangiura Place, Putaruru Waikato 3411

LOCATION:13 Rangiura Place, Putaruru Waikato 3411

END:VEVENT

END:VCALENDAR